BEGIN:VCALENDAR
VERSION:2.0
PRODID:-//Baptist Church of Oamaru - ECPv6.15.17.1//NONSGML v1.0//EN
CALSCALE:GREGORIAN
METHOD:PUBLISH
X-WR-CALNAME:Baptist Church of Oamaru
X-ORIGINAL-URL:https://oamarubaptist.org.nz
X-WR-CALDESC:Events for Baptist Church of Oamaru
REFRESH-INTERVAL;VALUE=DURATION:PT1H
X-Robots-Tag:noindex
X-PUBLISHED-TTL:PT1H
BEGIN:VTIMEZONE
TZID:Pacific/Auckland
BEGIN:STANDARD
TZOFFSETFROM:+1300
TZOFFSETTO:+1200
TZNAME:NZST
DTSTART:20240406T140000
END:STANDARD
BEGIN:DAYLIGHT
TZOFFSETFROM:+1200
TZOFFSETTO:+1300
TZNAME:NZDT
DTSTART:20240928T140000
END:DAYLIGHT
BEGIN:STANDARD
TZOFFSETFROM:+1300
TZOFFSETTO:+1200
TZNAME:NZST
DTSTART:20250405T140000
END:STANDARD
BEGIN:DAYLIGHT
TZOFFSETFROM:+1200
TZOFFSETTO:+1300
TZNAME:NZDT
DTSTART:20250927T140000
END:DAYLIGHT
BEGIN:STANDARD
TZOFFSETFROM:+1300
TZOFFSETTO:+1200
TZNAME:NZST
DTSTART:20260404T140000
END:STANDARD
BEGIN:DAYLIGHT
TZOFFSETFROM:+1200
TZOFFSETTO:+1300
TZNAME:NZDT
DTSTART:20260926T140000
END:DAYLIGHT
END:VTIMEZONE
BEGIN:VEVENT
DTSTART;TZID=Pacific/Auckland:20251116T120000
DTEND;TZID=Pacific/Auckland:20251116T140000
DTSTAMP:20260424T150330
CREATED:20251008T193849Z
LAST-MODIFIED:20251008T193849Z
UID:3979-1763294400-1763301600@oamarubaptist.org.nz
SUMMARY:Fellowship Lunch
DESCRIPTION:Join us for a delightful fellowship lunch as we prepare for our MAP Conference and celebrate the joy of birthdays and anniversaries. Bring a dish to share\, and let’s create a wonderful gathering filled with delicious food and warm fellowship! \nThe Fellowship Lunch is a valuable team-building opportunity. Please make yourself available to help prepare\, serve\, and clean up before\, during\, and after the event.
URL:https://oamarubaptist.org.nz/event/fellowship-lunch/
LOCATION:Oamaru Baptist Church\, 14 Sandringham Street\, Oamaru\, 9400\, New Zealand
CATEGORIES:Fellowship
ATTACH;FMTTYPE=image/jpeg:https://oamarubaptist.org.nz/wp-content/uploads/2023/07/fellowship-meal-obc.jpg
ORGANIZER;CN="Oamaru Baptist Church":MAILTO:pastor@oamarubaptist.org.nz
END:VEVENT
END:VCALENDAR