BEGIN:VCALENDAR
VERSION:2.0
PRODID:-//Baptist Church of Oamaru - ECPv6.15.17.1//NONSGML v1.0//EN
CALSCALE:GREGORIAN
METHOD:PUBLISH
X-WR-CALNAME:Baptist Church of Oamaru
X-ORIGINAL-URL:https://oamarubaptist.org.nz
X-WR-CALDESC:Events for Baptist Church of Oamaru
REFRESH-INTERVAL;VALUE=DURATION:PT1H
X-Robots-Tag:noindex
X-PUBLISHED-TTL:PT1H
BEGIN:VTIMEZONE
TZID:Pacific/Auckland
BEGIN:STANDARD
TZOFFSETFROM:+1300
TZOFFSETTO:+1200
TZNAME:NZST
DTSTART:20230401T140000
END:STANDARD
BEGIN:DAYLIGHT
TZOFFSETFROM:+1200
TZOFFSETTO:+1300
TZNAME:NZDT
DTSTART:20230923T140000
END:DAYLIGHT
BEGIN:STANDARD
TZOFFSETFROM:+1300
TZOFFSETTO:+1200
TZNAME:NZST
DTSTART:20240406T140000
END:STANDARD
BEGIN:DAYLIGHT
TZOFFSETFROM:+1200
TZOFFSETTO:+1300
TZNAME:NZDT
DTSTART:20240928T140000
END:DAYLIGHT
BEGIN:STANDARD
TZOFFSETFROM:+1300
TZOFFSETTO:+1200
TZNAME:NZST
DTSTART:20250405T140000
END:STANDARD
BEGIN:DAYLIGHT
TZOFFSETFROM:+1200
TZOFFSETTO:+1300
TZNAME:NZDT
DTSTART:20250927T140000
END:DAYLIGHT
END:VTIMEZONE
BEGIN:VEVENT
DTSTART;TZID=Pacific/Auckland:20241024T190000
DTEND;TZID=Pacific/Auckland:20241024T200000
DTSTAMP:20260424T111415
CREATED:20241009T200816Z
LAST-MODIFIED:20241016T015905Z
UID:2975-1729796400-1729800000@oamarubaptist.org.nz
SUMMARY:TEE for the 21st Century and How It Can Change New Zealand
DESCRIPTION:A Discipleship Report Evening with Anneta\nTEE is God’s instrument to strengthen a local church in different contexts and empower and equip all of God’s people for fruitful and powerful ministry. It can impact not only your own spiritual life and produce spiritual growth\, but like a stone thrown into water produces circular ripples\, it can impact your church\, neighbourhood\, and town through you. – Anneta Vysotkaya \nAnneta was raised as an atheist in the Soviet Union\, saved in Japan in 1992\, and was called into ministry in Russia in a spiritual revival situation. \nHer introduction to TEE in 2004 sparked a deep passion within her\, making it her main ministry. Anneta’s dedication to TEE led her to become a pioneer in Central Asia\, where she played a key role in establishing national TEE teams in the region. \nShe often travels to Central Asia and is familiar with the lives of churches that experience growth under persecution and economic hardship. She is also involved with non-formal education globally as an Increase Association Equipper and committee member. \nAnneta and her husband live in Wellington and enjoy family life with their children and grandchildren. \n 
URL:https://oamarubaptist.org.nz/event/tee-for-the-21st-century-and-how-it-can-change-new-zealand/
LOCATION:OBC Auditorium\, 14 Sandringham Street\, Oamaru\, 9400\, New Zealand
CATEGORIES:Discipleship Report
ATTACH;FMTTYPE=image/jpeg:https://oamarubaptist.org.nz/wp-content/uploads/2024/10/A-Discipleship-Report-Evening-with-Anneta-Vysotskaya.jpg
ORGANIZER;CN="Oamaru Baptist Church":MAILTO:pastor@oamarubaptist.org.nz
END:VEVENT
END:VCALENDAR